

BEGIN:VCALENDAR
VERSION:2.0
PRODID:-//hacksw/handcal//NONSGML v1.0//EN
CALSCALE:GREGORIAN
BEGIN:VEVENT
DTEND:20191004T180000
UID:603b003ae838d
DTSTAMP:20210228T133018
LOCATION:University of Sydney Sydney Sydney 2000 NSW
DESCRIPTION:The 32nd HETSA Conference will be held at the University of Sydney.
CALL FOR PAPERS. Proposals for presentations of research papers on any topics in the history of economics are invited\, for submission by Tuesday 2 April 2019 &mdash\; by email to the Convenor &mdash\;&nbsp\; with an abstract of not more than 300 words. Notice of acceptance or otherwise of submissions for presentations will be provided by Tuesday 30 April 2019.
FULL PAPERS are to be provided by Wednesday 4 September\, by email to the Convenor.
REGISTRATION for the Conference is required by Friday 2 August 2019 (AU$220.00\; fulltime students AU$150.00\; Conference dinner AU$90.00).
The KEYNOTE SPEAKER for the Conference is Professor Fabio Petri\, University of Siena: &lsquo\;Capital Theory\, 1874&ndash\;2019\, and the State of Macroeconomics&rsquo\;.
Website: https://sites.google.com/site/fabiopetripapers/home
Live from 8 March 2019\, the website for registration\, for the provision of conference-related information\, and for access to the Conference papers (after 18 September) is:
https://fass.e-newsletter.com.au/hetsa-2019
NOTE: On Sunday 6 October a major football Final will be taking place in Sydney. Therefore\, Conference participants&mdash\; particularly if planning to stay in Sydney into the weekend following the Conference should consider booking accommodation and flights as early as possible. (This applies more to domestic flights than international flights.) Monday 7 October is also a public holiday in Sydney (Labour Day).
The Conference gratefully acknowledges the financial support of the Faculty of Arts and Social Sciences in the University of Sydney and the School of Economics in the University of Sydney.
The Convenor of the Conference is Professor Tony Aspromourgos\, School of Economics\, University of Sydney\, Sydney NSW 2006\, Australia. E: tony.aspromourgos@sydney.edu.au
URL;VALUE=URI:http://esansw.org.au/event/37428
SUMMARY:The 2019 History of Economic Thought Society of Australia Conference
DTSTART:20191002T173000
END:VEVENT
END:VCALENDAR

