

BEGIN:VCALENDAR
VERSION:2.0
PRODID:-//hacksw/handcal//NONSGML v1.0//EN
CALSCALE:GREGORIAN
BEGIN:VEVENT
DTEND:20190307T170000
UID:603b03259131c
DTSTAMP:20210228T134245
LOCATION:Griffith University Southbank\, Ship Inn S06_2.02 Griffith South Bank Campus\, 226 Grey St Brisbane 4000 QLD
DESCRIPTION:Symposium on Lessons from the Global Financial Crisis
The 2008-09 global financial crisis is seen as the most cataclysmic macroeconomic event since The Great Depression. Although it affected economies worldwide\, it most harmed advanced economies which subsequently endured sub-optimal economic growth\, record low interest rates\, weak private investment\, poor productivity\, reduced working hours\, low wages growth and high public debt.
A decade has passed since central banks and governments through the G20 began deploying a range of co-ordinated monetary and fiscal measures in response to the crisis. It is timely to assess the policy lessons to be learned from this episode.
This Symposium\, jointly organised by the Griffith Asia Institute and the Economic Society of Australia (Qld)\, brings together high profile economists to analyse the key issues. &nbsp\;
The&nbsp\;program for the Symposium&nbsp\;is available here - Symposium Program.pdf&nbsp\;. &nbsp\;Registration is essential for this free event&nbsp\;and closes Friday 28 February -&nbsp\;registration link
For inquires\, please email: events-gai@griffith.edu.au

URL;VALUE=URI:http://esansw.org.au/event/37532
SUMMARY:Symposium on Lessons from the Global Financial Crisis:
DTSTART:20190307T104500
END:VEVENT
END:VCALENDAR

