

BEGIN:VCALENDAR
VERSION:2.0
PRODID:-//hacksw/handcal//NONSGML v1.0//EN
CALSCALE:GREGORIAN
BEGIN:VEVENT
DTEND:20190307T210000
UID:603b031c6230d
DTSTAMP:20210228T134236
LOCATION:J&M 1 Angel Place Sydney 2000 NSW
DESCRIPTION:Join the Women in Economics Network for casual networking drinks to celebrate International Women&rsquo\;s Day\, kick off the 2019 WEN events calendar and meet your new committee. Attendance is free. Drinks and food can be purchased at the bar. All are welcome (and encouraged) to attend\;&nbsp\;you do not need to be an ESA and/or WEN member.
https://merivale.com/venues/jandm
URL;VALUE=URI:http://esansw.org.au/event/37949
SUMMARY:WEN: International Women's Day
DTSTART:20190307T170000
END:VEVENT
END:VCALENDAR

