

BEGIN:VCALENDAR
VERSION:2.0
PRODID:-//hacksw/handcal//NONSGML v1.0//EN
CALSCALE:GREGORIAN
BEGIN:VEVENT
DTEND:20190412T134500
UID:603b02fe651ba
DTSTAMP:20210228T134206
LOCATION:RBA 65 Martin Place Sydney 2000 NSW
DESCRIPTION:Nicholas Gruen\, is a widely published policy economist\, entrepreneur and thought leader who has had regular columns in the Courier Mail\, the Australian Financial Review\, the Age and the Sydney Morning Herald.
He has advised Cabinet Ministers\, sat on Australia&rsquo\;s Productivity Commission and founded Lateral Economics and Peach Financial. Nicholas chairs: The Australian Centre for Social Innovation\; The Deakin University Arts Participation Incubator The Open Knowledge Foundation (Australian Chapter).
He is Patron of the Australian Digital Alliance\, which brings together Australia&rsquo\;s libraries\, universities\, and major providers of digital infrastructure such as Google and Yahoo. He is a member of the Council of the National Library of Australia.
He was second shareholder and Chairman of successful San Francisco based startup data analytics crowdsourcing platform Kaggle.com.
He is an Angel investor in a number of other Australian startups including Breezedocs which is developing semantic document management systems\, Melt Pizza Restaurants\, BetterBills.com.au\, SoundFocus.com\, Slant.co.
He was chairman of the Federal Government&rsquo\;s Innovation Australia Board in 2013 and 214. He was a member of a review of Pharmaceutical patent extensions in 2013.
In 2009 he chaired Australia&rsquo\;s internationally acclaimed Government 2.0 Taskforce. In 2008 he was a member of a major review into Australia&rsquo\;s Innovation System. He has a BA (Hons &ndash\; First Class) in History (1981) and a PhD in Public Policy from the ANU (1998)\, and an LLB (Hons) from the University of Melbourne (1982).
&nbsp\;
Ticket Price: $95.00 per person to include sit-down share platter lunch.
&nbsp\;
REGISTER NOW
&nbsp\;
&nbsp\;
&nbsp\;
&nbsp\;
&nbsp\;
URL;VALUE=URI:http://esansw.org.au/event/38332
SUMMARY:Emerging Economist Lunch with Nicholas Gruen
DTSTART:20190412T121500
END:VEVENT
END:VCALENDAR

