

BEGIN:VCALENDAR
VERSION:2.0
PRODID:-//hacksw/handcal//NONSGML v1.0//EN
CALSCALE:GREGORIAN
BEGIN:VEVENT
DTEND:20190501T140000
UID:603b02de053b0
DTSTAMP:20210228T134134
LOCATION:The Gallery\,  State Library of NSW Macquarie Street SYDNEY 2000 NSW
DESCRIPTION:Details

Time: 12:30 pm - 2:00
Venue: The Gallery\, State Library of New South Wales
A working lunch will be served
Cost: $75 member\, $95 non-member\, $680 table of 8

Mr Green and Mr Wade have agreed to take questions from the floor. There will be no live broadcast of this function.
Register and pay online here
Enquiries: info@abe.org.au or call 0419 256 339
Mr Antony Green\, Election Analyst\, Australian Broadcasting Corporation
Antony Green is a psephologist and commentator. He is the Australian Broadcasting Corporation's election analyst and is responsible for the content of the ABC's election website. Antony has worked for the ABC since 1989. In that time he has worked on more than 60 federal\, state and territory elections. He has also worked on local government elections\, numerous by-elections and covered elections in the United Kingdom\, New Zealand and Canada for the ABC. Website: www.abc.net.au/elections &nbsp\;Blog: http://blogs.abc.net.au/antonygreen/Twitter: @AntonyGreenABC&nbsp\; E-mail: elections@your.abc.net.au
&nbsp\;
Mr Matt Wade\, Senior Journalist\, The Sydney Morning Herald
Matt Wade is a senior reporter and columnist for the Sydney Morning Herald and The Age where he writes about economics\, politics and demography. He was based in India as a foreign correspondent for The Herald and The Age between 2007 and 2011 and has a long term interest in international development. Matt has previously worked in the Canberra Press Gallery as The Herald's Economics Correspondent and has covered consumer affairs and financial markets.
URL;VALUE=URI:http://esansw.org.au/event/38447
SUMMARY:ABE Lunchtime Briefing and Discussion - Federal Election 2019 - The Lay of the Land
DTSTART:20190501T123000
END:VEVENT
END:VCALENDAR

