

BEGIN:VCALENDAR
VERSION:2.0
PRODID:-//hacksw/handcal//NONSGML v1.0//EN
CALSCALE:GREGORIAN
BEGIN:VEVENT
DTEND:20190627T134500
UID:603b02cc42afa
DTSTAMP:20210228T134116
LOCATION:RBA 65 Martin Place Sydney 2000 NSW
DESCRIPTION:Maxine McKew is an author and Hon Enterprise Professor of the Melbourne Graduate School of Education at the University of Melbourne.
Maxine McKew&rsquo\;s background traverses both journalism and politics. For many years she was a familiar face to ABC TV viewers and was anchor of prestigious programmes such as the 7.30 Report and Lateline. Her work has been recognized by her peers with both Walkely and Logie awards. When she left journalism and made the switch to politics\, she wrote herself into the Australian history books by defeating Prime Minister John Howard in the Sydney seat of Bennelong. In government she was both parliamentary secretary for early childhood and later\, for regional development and local government.
Maxine lives in Melbourne and is a director of Per Capita and the John Cain Foundation. In 2015 she was appointed to serve on the board of the State Library of Victoria and re-appointed for a further term in 2018. She also serves as a non-executive director of New Energy Solar.
Her most recent book\, published by Melbourne University Press in 2014\, is Class Act &ndash\; a study of the key challenges in Australian schooling. This publication followed the success of her memoir\, Tales From the Political Trenches\, an account of her brief but tumultuous time in the Federal Parliament.
&nbsp\;
REGISTER NOW
&nbsp\;
&nbsp\;
URL;VALUE=URI:http://esansw.org.au/event/38705
SUMMARY:Emerging Economist Lunch with Maxine McKew
DTSTART:20190627T121500
END:VEVENT
END:VCALENDAR

