

BEGIN:VCALENDAR
VERSION:2.0
PRODID:-//hacksw/handcal//NONSGML v1.0//EN
CALSCALE:GREGORIAN
BEGIN:VEVENT
DTEND:20190725T140000
UID:603b02a3574fa
DTSTAMP:20210228T134035
LOCATION:Grand Ballroom\, Westin Hotel 1 Martin Place SYDNEY 2000 NSW
DESCRIPTION:The Anika Foundation and Australian Business Economists are pleased to present a lunch in support of The Anika Foundation with a briefing by Dr Philip Lowe\, Governor\, Reserve Bank of Australia - Recent developments in the Australian and global economies.
Details:

Time: 12 noon for 12:30 pm (Concludes 2:00 pm)
Venue: Grand Ballroom\, The Westin Sydney\, No 1 Martin Place
Lunch includes two courses and beverages
Donation: $2250 tables of ten guests each\, $225 individual seats Donations are tax deductible and GST-free

The Governor has agreed to take questions from the floor. There will be no live broadcast of this function. NAB is hosting this lunch by way of generous support for The Anika Foundation.
To BookABE offers an on-line booking and payment facilityClick here to book on-line.Please direct enquiries to info@abe.org.au or 0419 256 399
The Anika Foundation The Anika Foundation was established in 2005 to raise funds for the purpose of supporting research into adolescent depression and suicide\, which have become amongst the most significant (but least well considered) medical and social problems of our time. The Anika Foundation is governed by a Board comprising Dr Adrian Blundell-Wignall (Chair)\, Dr Philip Lowe\, Mr Glenn Stevens\, Mr Jeff White\, Mr Crispin Murray\, Mr Paul Brennan\, Professor Philip Mitchell\, Ms Danae Blundell-Wignall\, Mr Tate Dogan. Funds are raised for an endowment that is invested by professional fund managers working on a completely voluntary basis. Income from the fund is used to sponsor prizes for research\, community and school initiatives\, in perpetuity\, in the area of adolescent depression and suicide. The Anika Foundation provides an opportunity for corporate Australia to make a difference in an area that affects at least 1 in 4 families. All donations are fully tax deductible\, and donors are permanently listed on the website. For further details please visit: anikafoundation.com Dr Philip Lowe Philip Lowe is Governor of the Reserve Bank of Australia. Dr Lowe holds a PhD from the Massachusetts Institute of Technology and a B.Comm (Honours) in Economics/Econometrics from the University of New South Wales. He has authored numerous papers\, including on the linkages between monetary policy and financial stability. He commenced as Governor in September 2016. He is Chair of the Reserve Bank Board and Payments System Board\, and Chair of the Council of Financial Regulators. He also serves on the FSB Steering Committee. Prior to his current role\, he held the positions of Deputy Governor\, Assistant Governor (Economic) and Assistant Governor (Financial System). He also spent two years with the Bank for International Settlements working on financial stability issues. Dr Lowe is Chair of the Financial Markets Foundation for Children and a director of The Anika Foundation. Dr Lowe is a signatory to The Banking and Finance Oath.&nbsp\;
URL;VALUE=URI:http://esansw.org.au/event/39556
SUMMARY:Recent developments in the Australian and global economies 
DTSTART:20190725T120000
END:VEVENT
END:VCALENDAR

