

BEGIN:VCALENDAR
VERSION:2.0
PRODID:-//hacksw/handcal//NONSGML v1.0//EN
CALSCALE:GREGORIAN
BEGIN:VEVENT
DTEND:20190717T140000
UID:603b02b385bb0
DTSTAMP:20210228T134051
LOCATION:Currency Museum\, Reserve Bank of Australia 65 Martin Place Sydney 2000 NSW
DESCRIPTION:Australian Business Economists (ABE) are pleased to present a lunchtime briefing and discussion with Dr Adrian Blundell-Wignall Adjunct Professor\, School of Economics\, University of Sydney &amp\; Former Special Advisor\, Financial Markets\, OECD.
Adrian will canvass: the global outlook - the USA\, trade wars\, Brexit and China - and what it means for the Australian economy and the markets outlook over the medium term\; why Australia is very poorly placed as our key growth drivers come under threat\; and the urgent need for a plan and what it might look like.
Bookings
ABE offer an on-line booking and payment facilityTo book on-line\, please click here Or go to to abe.org.au &gt\; Forthcoming events.  DetailsTime: 12:30 pm - 2:00 pmCurrency Museum\, Reserve Bank of Australia\, 65 Martin Place\, SydneyCost: $75 members\, $95 non-membersA working lunch will be served.Enquiries: info@abe.org.au or call 0419 256 339
Adrian Blundell WignallAdjunct Professor\, School of Economics\, University of Sydney\; Former Special Advisor for Financial Markets and Director\, Financial Affairs Directorate\, at the OECD\; Chairman and portfolio manager for The Anika Foundation\, board member OECD pension fund.Senior positions:&bull\; 2002 Citigroup (Australia\, Ltd) Director\, Head of Equity Strategy Research.&bull\; 2000 Executive Vice President\, Head of Asset Allocation\, BT Funds Management.&bull\; 1993 Head of Derivative Overlays and Levered Products at Bankers&bull\; 1991 Head of Research Department\, Reserve Bank of Australia.Early career: Economist positions in: the OECD Economics Department\, the Reserve Bank of Australia and the Economic Planning Advisory Council of Australia.Education: 1st class Honours degree and PhD in Economics from Cambridge University\, UK.Publications: Extensive publications on financial markets and monetary policy in learned journals and books\, as well as broker analyst studies and reports.Most important achievement: Founder and Chairman of The Anika Foundation\, a rapidly growing and high profile charity which provides education research scholarships in the area of adolescent mental health\, depression awareness and suicide.
URL;VALUE=URI:http://esansw.org.au/event/39571
SUMMARY:The end of the commodity super cycle and the need for a new economic plan
DTSTART:20190717T123000
END:VEVENT
END:VCALENDAR

