

BEGIN:VCALENDAR
VERSION:2.0
PRODID:-//hacksw/handcal//NONSGML v1.0//EN
CALSCALE:GREGORIAN
BEGIN:VEVENT
DTEND:20190807T140000
UID:603b029a3cad3
DTSTAMP:20210228T134026
LOCATION:RBA 65 Martin Place Sydney 2000 NSW
DESCRIPTION:Mr Byres was appointed as a Member and Chair of APRA from 1 July 2014 for a five-year term. He was subsequently reappointed for a second five-year term commencing 1 July 2019.
Mr Byres' early career was in the Reserve Bank of Australia (RBA)\, which he joined in 1984. After more than a decade with the RBA\, including a secondment to the Bank of England in London\, he transferred to APRA on its establishment in 1998. Mr Byres subsequently held a range of senior executive positions in APRA\, covering both its policy and supervisory divisions. In late 2011\, Mr Byres left APRA to take up the appointment as Secretary General of the Basel Committee on Banking Supervision\, the global standard setting body for banks based at the Bank for International Settlements in Basel\, Switzerland. He held this position until his return to Australia in mid-2014.
Mr Byres is APRA&rsquo\;s representative on the Payments System Board\, the Council of Financial Regulators\, the Trans-Tasman Council on Banking Supervision\, the Basel Committee and its oversight body\, the Governors and Heads of Supervision
&nbsp\;
REGISTER NOW
&nbsp\;
URL;VALUE=URI:http://esansw.org.au/event/39657
SUMMARY:Wayne Byres\, Chairman of APRA - EES Lunch
DTSTART:20190807T121500
END:VEVENT
END:VCALENDAR

