

BEGIN:VCALENDAR
VERSION:2.0
PRODID:-//hacksw/handcal//NONSGML v1.0//EN
CALSCALE:GREGORIAN
BEGIN:VEVENT
DTEND:20190821T203000
UID:603b028cb5fe2
DTSTAMP:20210228T134012
LOCATION:Deloitte Level 9 225 Gorge Street SYDNEY 2000 NSW
DESCRIPTION:Notice of Annual General Meeting&nbsp\;
Notice is hereby given of the next&nbsp\;Annual General Meeting&nbsp\;of the Economic Society of Australia (NSW)&nbsp\;
Details&nbsp\;



Date&nbsp\;
&nbsp\;
Wednesday 21 August


Time
&nbsp\;
From 6.30 till 8.30pm - please arrive by 6.20 pm


Register
&nbsp\;
By Wednesday 14 August


Nominations
&nbsp\;
To be received by Wednesday 14 August


Location
&nbsp\;
Deloitte\, Level 9\, 225 George Street\, Sydney



&nbsp\;

If you would like to attend\, please register below by Wednesday 14 August. &nbsp\;We will need to know that you&rsquo\;re coming so that you can get into the building.
Nominations for Council Positions
All positions on Council will be declared vacant. To nominate you must be a financial member and so must your nominators. Nominations for Council positions are due Wednesday 14 August.
To nominate:
Click here to download the Nomination Form.
Alternatively\, you may nominate without a form by simply e-mailing the&nbsp\;administrator&nbsp\;with the following:

State your name\, contact details (address\, email and contact number) and position you would like to be nominated for\, and copy in at least one other&nbsp\;ESA&nbsp\;(NSW) financial member (the supporter of your nomination). The person(s) supporting your nomination will be required to follow up with a separate email endorsing your nomination. &nbsp\;Please also disclose any possible conflicts of interest\, including employer and role and other professional affiliation.
Include the following text in your email:I would like to be nominated for a vacant position on the Economic Society of Australia (NSW&nbsp\;Branch) Council for 2019-20. I am a financial member of the Society and I have read and agreed to the Council&rsquo\;s Governance Statement (available on the &lsquo\;Governance&rsquo\; section of the website).&nbsp\;

Complete the nomination form and send to the&nbsp\;administrator. &nbsp\;Nomination forms must be received by Wednesday 14 August. &nbsp\;If you wish to attend the AGM&nbsp\;you will need to register in order to gain access at Security&nbsp\;(register now).
&nbsp\;
&nbsp\;
URL;VALUE=URI:http://esansw.org.au/event/39811
SUMMARY:ESA NSW Branch - AGM 2019
DTSTART:20190821T183000
END:VEVENT
END:VCALENDAR

